BEGIN:VCALENDAR
VERSION:2.0
PRODID:-//hacksw/handcal//NONSGML v1.0//EN
BEGIN:VEVENT
UID:17430
DTSTART;VALUE=DATE:20231114
URL;VALUE=URI:ohschonhell.at/?page_id=38733
SUMMARY:Back on Track 
LOCATION:Der Ponyhof
END:VEVENT
END:VCALENDAR


