BEGIN:VCALENDAR
VERSION:2.0
PRODID:-//hacksw/handcal//NONSGML v1.0//EN
BEGIN:VEVENT
UID:17437
DTSTART;VALUE=DATE:20231110
URL;VALUE=URI:ohschonhell.at/?page_id=38747
SUMMARY:this is our dancefloor
LOCATION:Off-Location
END:VEVENT
END:VCALENDAR


