BEGIN:VCALENDAR
VERSION:2.0
PRODID:-//hacksw/handcal//NONSGML v1.0//EN
BEGIN:VEVENT
UID:17458
DTSTART;VALUE=DATE:20231118
URL;VALUE=URI:ohschonhell.at/?page_id=38790
SUMMARY:AFTERHOUR mit CED & KRETA
LOCATION:Black Market
END:VEVENT
END:VCALENDAR


