BEGIN:VCALENDAR
VERSION:2.0
PRODID:-//hacksw/handcal//NONSGML v1.0//EN
BEGIN:VEVENT
UID:17466
DTSTART;VALUE=DATE:20231125
URL;VALUE=URI:ohschonhell.at/?page_id=38807
SUMMARY:LÖWENZAHN w/ Emma Keks (TIF/Mikro Club) & Stephan Licha (TIF/Kommune)
LOCATION:Kramladen
END:VEVENT
END:VCALENDAR


