BEGIN:VCALENDAR
VERSION:2.0
PRODID:-//hacksw/handcal//NONSGML v1.0//EN
BEGIN:VEVENT
UID:17467
DTSTART;VALUE=DATE:20231123
URL;VALUE=URI:ohschonhell.at/?page_id=38809
SUMMARY:RAVELADEN #33
LOCATION:Kramladen
END:VEVENT
END:VCALENDAR


