BEGIN:VCALENDAR
VERSION:2.0
PRODID:-//hacksw/handcal//NONSGML v1.0//EN
BEGIN:VEVENT
UID:1747
DTSTART;VALUE=DATE:20140801
URL;VALUE=URI:ohschonhell.at/?page_id=4344
SUMMARY:sommerquartier
LOCATION:CAFE LEOPOLD
END:VEVENT
END:VCALENDAR


