BEGIN:VCALENDAR
VERSION:2.0
PRODID:-//hacksw/handcal//NONSGML v1.0//EN
BEGIN:VEVENT
UID:17472
DTSTART;VALUE=DATE:20231201
URL;VALUE=URI:ohschonhell.at/?page_id=38822
SUMMARY:MAGIC
LOCATION:FLEX CAFE
END:VEVENT
END:VCALENDAR


