BEGIN:VCALENDAR
VERSION:2.0
PRODID:-//hacksw/handcal//NONSGML v1.0//EN
BEGIN:VEVENT
UID:175
DTSTART;VALUE=DATE:20131115
URL;VALUE=URI:ohschonhell.at/?page_id=2642
SUMMARY:bubble club - wird 5
LOCATION:MORISSON CLUB
END:VEVENT
END:VCALENDAR


