BEGIN:VCALENDAR
VERSION:2.0
PRODID:-//hacksw/handcal//NONSGML v1.0//EN
BEGIN:VEVENT
UID:1750
DTSTART;VALUE=DATE:20140726
URL;VALUE=URI:ohschonhell.at/?page_id=4347
SUMMARY:POPFEST TAG 3 - Sa\, 26\, Juli @ brut feat. TRISHES\, CHRISFADER &amp\; TESTA
LOCATION:BRUT
END:VEVENT
END:VCALENDAR


