BEGIN:VCALENDAR
VERSION:2.0
PRODID:-//hacksw/handcal//NONSGML v1.0//EN
BEGIN:VEVENT
UID:17505
DTSTART;VALUE=DATE:20231103
URL;VALUE=URI:ohschonhell.at/?page_id=38890
SUMMARY:AFTERHOUR mit VIENNA TECHNO MAFIA
LOCATION:Black Market
END:VEVENT
END:VCALENDAR


