BEGIN:VCALENDAR
VERSION:2.0
PRODID:-//hacksw/handcal//NONSGML v1.0//EN
BEGIN:VEVENT
UID:17511
DTSTART;VALUE=DATE:20231215
URL;VALUE=URI:ohschonhell.at/?page_id=38903
SUMMARY:Streamlines Showcase 02
LOCATION:CLUB TITANIC
END:VEVENT
END:VCALENDAR


