BEGIN:VCALENDAR
VERSION:2.0
PRODID:-//hacksw/handcal//NONSGML v1.0//EN
BEGIN:VEVENT
UID:17513
DTSTART;VALUE=DATE:20231222
URL;VALUE=URI:ohschonhell.at/?page_id=38907
SUMMARY:MCR-T\, Frederic.\, Caiva | Selected X Grelle Forelle XMAS
LOCATION:GRELLE FORELLE
END:VEVENT
END:VCALENDAR


