BEGIN:VCALENDAR
VERSION:2.0
PRODID:-//hacksw/handcal//NONSGML v1.0//EN
BEGIN:VEVENT
UID:17514
DTSTART;VALUE=DATE:20231216
URL;VALUE=URI:ohschonhell.at/?page_id=38909
SUMMARY:BEAT IT
LOCATION:FLEX
END:VEVENT
END:VCALENDAR


