BEGIN:VCALENDAR
VERSION:2.0
PRODID:-//hacksw/handcal//NONSGML v1.0//EN
BEGIN:VEVENT
UID:17516
DTSTART;VALUE=DATE:20231215
URL;VALUE=URI:ohschonhell.at/?page_id=38913
SUMMARY:Switch! presents Turno & Dr.Eps
LOCATION:FLEX
END:VEVENT
END:VCALENDAR


