BEGIN:VCALENDAR
VERSION:2.0
PRODID:-//hacksw/handcal//NONSGML v1.0//EN
BEGIN:VEVENT
UID:1752
DTSTART;VALUE=DATE:20140725
URL;VALUE=URI:ohschonhell.at/?page_id=4349
SUMMARY:POPFEST TAG 2 - Fr\, 25. Juli @ brut feat. BULBUL\, RADIAN\, VILLALOG\, ELEKTRO GUZZI
LOCATION:BRUT
END:VEVENT
END:VCALENDAR


