BEGIN:VCALENDAR
VERSION:2.0
PRODID:-//hacksw/handcal//NONSGML v1.0//EN
BEGIN:VEVENT
UID:17526
DTSTART;VALUE=DATE:20231210
URL;VALUE=URI:ohschonhell.at/?page_id=38936
SUMMARY:AFTERHOUR mit CED b2b BLANCS
LOCATION:Black Market
END:VEVENT
END:VCALENDAR


