BEGIN:VCALENDAR
VERSION:2.0
PRODID:-//hacksw/handcal//NONSGML v1.0//EN
BEGIN:VEVENT
UID:17527
DTSTART;VALUE=DATE:20231208
URL;VALUE=URI:ohschonhell.at/?page_id=38939
SUMMARY:DRUMWORKS presents UPD8E
LOCATION:Black Market
END:VEVENT
END:VCALENDAR


