BEGIN:VCALENDAR
VERSION:2.0
PRODID:-//hacksw/handcal//NONSGML v1.0//EN
BEGIN:VEVENT
UID:17528
DTSTART;VALUE=DATE:20231216
URL;VALUE=URI:ohschonhell.at/?page_id=38942
SUMMARY:AFTERHOUR mit MADWIN & KRAUSKLANG
LOCATION:Black Market
END:VEVENT
END:VCALENDAR


