BEGIN:VCALENDAR
VERSION:2.0
PRODID:-//hacksw/handcal//NONSGML v1.0//EN
BEGIN:VEVENT
UID:17529
DTSTART;VALUE=DATE:20231217
URL;VALUE=URI:ohschonhell.at/?page_id=38945
SUMMARY:RUMBLE by WIENER MISCHUNG
LOCATION:Black Market
END:VEVENT
END:VCALENDAR


