BEGIN:VCALENDAR
VERSION:2.0
PRODID:-//hacksw/handcal//NONSGML v1.0//EN
BEGIN:VEVENT
UID:17530
DTSTART;VALUE=DATE:20231221
URL;VALUE=URI:ohschonhell.at/?page_id=38948
SUMMARY:Donnerstrab w/ DetoXDan (ФУЗИОН)
LOCATION:Der Ponyhof
END:VEVENT
END:VCALENDAR


