BEGIN:VCALENDAR
VERSION:2.0
PRODID:-//hacksw/handcal//NONSGML v1.0//EN
BEGIN:VEVENT
UID:17531
DTSTART;VALUE=DATE:20231219
URL;VALUE=URI:ohschonhell.at/?page_id=38950
SUMMARY:Back on Track 
LOCATION:Der Ponyhof
END:VEVENT
END:VCALENDAR


