BEGIN:VCALENDAR
VERSION:2.0
PRODID:-//hacksw/handcal//NONSGML v1.0//EN
BEGIN:VEVENT
UID:17535
DTSTART;VALUE=DATE:20231215
URL;VALUE=URI:ohschonhell.at/?page_id=38958
SUMMARY:LÖWENZAHN X ANNAversary
LOCATION:Der Ponyhof
END:VEVENT
END:VCALENDAR


