BEGIN:VCALENDAR
VERSION:2.0
PRODID:-//hacksw/handcal//NONSGML v1.0//EN
BEGIN:VEVENT
UID:17537
DTSTART;VALUE=DATE:20231215
URL;VALUE=URI:ohschonhell.at/?page_id=38962
SUMMARY:BASSTRACE 059 with SILKIE & KLUB SIR3NE
LOCATION:VENSTER 99
END:VEVENT
END:VCALENDAR


