BEGIN:VCALENDAR
VERSION:2.0
PRODID:-//hacksw/handcal//NONSGML v1.0//EN
BEGIN:VEVENT
UID:17545
DTSTART;VALUE=DATE:20231215
URL;VALUE=URI:ohschonhell.at/?page_id=38978
SUMMARY:Psychedelic [Toge BdayBash]
LOCATION:Na Nang CLub
END:VEVENT
END:VCALENDAR


