BEGIN:VCALENDAR
VERSION:2.0
PRODID:-//hacksw/handcal//NONSGML v1.0//EN
BEGIN:VEVENT
UID:17546
DTSTART;VALUE=DATE:20231229
URL;VALUE=URI:ohschonhell.at/?page_id=38980
SUMMARY:Leo Stussy Invites
LOCATION:Kramladen
END:VEVENT
END:VCALENDAR


