BEGIN:VCALENDAR
VERSION:2.0
PRODID:-//hacksw/handcal//NONSGML v1.0//EN
BEGIN:VEVENT
UID:17547
DTSTART;VALUE=DATE:20231215
URL;VALUE=URI:ohschonhell.at/?page_id=38982
SUMMARY:[UNDRGRND CHRSTMS RAVE] x TECHNO VIENNA x CHARITY
LOCATION:Kramladen
END:VEVENT
END:VCALENDAR


