BEGIN:VCALENDAR
VERSION:2.0
PRODID:-//hacksw/handcal//NONSGML v1.0//EN
BEGIN:VEVENT
UID:17550
DTSTART;VALUE=DATE:20231215
URL;VALUE=URI:ohschonhell.at/?page_id=38988
SUMMARY:FISH MARKET - Unholy w/ Ignez & Axciid
LOCATION:GRELLE FORELLE
END:VEVENT
END:VCALENDAR


