BEGIN:VCALENDAR
VERSION:2.0
PRODID:-//hacksw/handcal//NONSGML v1.0//EN
BEGIN:VEVENT
UID:17551
DTSTART;VALUE=DATE:20231231
URL;VALUE=URI:ohschonhell.at/?page_id=38990
SUMMARY:NYE Grelle Forelle | Twenty Twenty Four.
LOCATION:GRELLE FORELLE
END:VEVENT
END:VCALENDAR


