BEGIN:VCALENDAR
VERSION:2.0
PRODID:-//hacksw/handcal//NONSGML v1.0//EN
BEGIN:VEVENT
UID:17553
DTSTART;VALUE=DATE:20240112
URL;VALUE=URI:ohschonhell.at/?page_id=38994
SUMMARY:ZUCKERWATT w/ EXTRAWELT LIVE x Techno am Berg | &lt\; Grelle Forelle
LOCATION:GRELLE FORELLE
END:VEVENT
END:VCALENDAR


