BEGIN:VCALENDAR
VERSION:2.0
PRODID:-//hacksw/handcal//NONSGML v1.0//EN
BEGIN:VEVENT
UID:17555
DTSTART;VALUE=DATE:20240113
URL;VALUE=URI:ohschonhell.at/?page_id=38998
SUMMARY:THE HIVE pres. PYTHIUS & A.WAY
LOCATION:FLEX
END:VEVENT
END:VCALENDAR


