BEGIN:VCALENDAR
VERSION:2.0
PRODID:-//hacksw/handcal//NONSGML v1.0//EN
BEGIN:VEVENT
UID:17557
DTSTART;VALUE=DATE:20231216
URL;VALUE=URI:ohschonhell.at/?page_id=39002
SUMMARY:disko obskuro #4
LOCATION:Der Ponyhof
END:VEVENT
END:VCALENDAR


