BEGIN:VCALENDAR
VERSION:2.0
PRODID:-//hacksw/handcal//NONSGML v1.0//EN
BEGIN:VEVENT
UID:17558
DTSTART;VALUE=DATE:20231215
URL;VALUE=URI:ohschonhell.at/?page_id=39004
SUMMARY:VRTM invites: LÍM Label Launch Party
LOCATION:DAS WERK
END:VEVENT
END:VCALENDAR


