BEGIN:VCALENDAR
VERSION:2.0
PRODID:-//hacksw/handcal//NONSGML v1.0//EN
BEGIN:VEVENT
UID:17569
DTSTART;VALUE=DATE:20231215
URL;VALUE=URI:ohschonhell.at/?page_id=39026
SUMMARY:Im Freudentaumel Weihnachtsfeier mit Theo Meier\, Schnuppo\, Mëx & many more
LOCATION:FLUCC
END:VEVENT
END:VCALENDAR


