BEGIN:VCALENDAR
VERSION:2.0
PRODID:-//hacksw/handcal//NONSGML v1.0//EN
BEGIN:VEVENT
UID:17571
DTSTART;VALUE=DATE:20231223
URL;VALUE=URI:ohschonhell.at/?page_id=39031
SUMMARY:AFTERHOUR mit ALTROY JEROME (5h extended set)
LOCATION:Black Market
END:VEVENT
END:VCALENDAR


