BEGIN:VCALENDAR
VERSION:2.0
PRODID:-//hacksw/handcal//NONSGML v1.0//EN
BEGIN:VEVENT
UID:17572
DTSTART;VALUE=DATE:20231224
URL;VALUE=URI:ohschonhell.at/?page_id=39034
SUMMARY:RAW SESSION AFTERHOUR w/ VERHALL & REE:RAW
LOCATION:Black Market
END:VEVENT
END:VCALENDAR


