BEGIN:VCALENDAR
VERSION:2.0
PRODID:-//hacksw/handcal//NONSGML v1.0//EN
BEGIN:VEVENT
UID:17574
DTSTART;VALUE=DATE:20231225
URL;VALUE=URI:ohschonhell.at/?page_id=39040
SUMMARY:MUSICAL COLLECTIVE presents STRØMWĀRTS & KRAUSKLANG
LOCATION:Black Market
END:VEVENT
END:VCALENDAR


