BEGIN:VCALENDAR
VERSION:2.0
PRODID:-//hacksw/handcal//NONSGML v1.0//EN
BEGIN:VEVENT
UID:17575
DTSTART;VALUE=DATE:20231226
URL;VALUE=URI:ohschonhell.at/?page_id=39043
SUMMARY:AFTERHOUR mit KRAUSKLANG\, INESSA & EDDIE CARUSO
LOCATION:Black Market
END:VEVENT
END:VCALENDAR


