BEGIN:VCALENDAR
VERSION:2.0
PRODID:-//hacksw/handcal//NONSGML v1.0//EN
BEGIN:VEVENT
UID:17578
DTSTART;VALUE=DATE:20240101
URL;VALUE=URI:ohschonhell.at/?page_id=39052
SUMMARY:2023 WAR GESTERN - 24 Stunden Tanzen ... Im Ganzen
LOCATION:Black Market
END:VEVENT
END:VCALENDAR


