BEGIN:VCALENDAR
VERSION:2.0
PRODID:-//hacksw/handcal//NONSGML v1.0//EN
BEGIN:VEVENT
UID:17582
DTSTART;VALUE=DATE:20240113
URL;VALUE=URI:ohschonhell.at/?page_id=39062
SUMMARY:DUALITY
LOCATION:GRELLE FORELLE
END:VEVENT
END:VCALENDAR


