BEGIN:VCALENDAR
VERSION:2.0
PRODID:-//hacksw/handcal//NONSGML v1.0//EN
BEGIN:VEVENT
UID:17589
DTSTART;VALUE=DATE:20240126
URL;VALUE=URI:ohschonhell.at/?page_id=39076
SUMMARY:TiM TASTE @ Flucc Vienna | Vision Serpent X Im Freudentaumel
LOCATION:FLUCC
END:VEVENT
END:VCALENDAR


