BEGIN:VCALENDAR
VERSION:2.0
PRODID:-//hacksw/handcal//NONSGML v1.0//EN
BEGIN:VEVENT
UID:17590
DTSTART;VALUE=DATE:20240120
URL;VALUE=URI:ohschonhell.at/?page_id=39078
SUMMARY:❤️Side Effects V. ❤️Techno Ultras❤️ ? Tech House/Techno?
LOCATION:Kramladen
END:VEVENT
END:VCALENDAR


