BEGIN:VCALENDAR
VERSION:2.0
PRODID:-//hacksw/handcal//NONSGML v1.0//EN
BEGIN:VEVENT
UID:17591
DTSTART;VALUE=DATE:20240105
URL;VALUE=URI:ohschonhell.at/?page_id=39080
SUMMARY:Impulse w/ Rebekah
LOCATION:GRELLE FORELLE
END:VEVENT
END:VCALENDAR


