BEGIN:VCALENDAR
VERSION:2.0
PRODID:-//hacksw/handcal//NONSGML v1.0//EN
BEGIN:VEVENT
UID:17593
DTSTART;VALUE=DATE:20240127
URL;VALUE=URI:ohschonhell.at/?page_id=39084
SUMMARY:Switch! feat. Tsuki\, Shifu\, MC Longman
LOCATION:FLEX
END:VEVENT
END:VCALENDAR


