BEGIN:VCALENDAR
VERSION:2.0
PRODID:-//hacksw/handcal//NONSGML v1.0//EN
BEGIN:VEVENT
UID:17603
DTSTART;VALUE=DATE:20231222
URL;VALUE=URI:ohschonhell.at/?page_id=39104
SUMMARY:SCHWARZER SCHNEE
LOCATION:Der Ponyhof
END:VEVENT
END:VCALENDAR


