BEGIN:VCALENDAR
VERSION:2.0
PRODID:-//hacksw/handcal//NONSGML v1.0//EN
BEGIN:VEVENT
UID:17605
DTSTART;VALUE=DATE:20231222
URL;VALUE=URI:ohschonhell.at/?page_id=39108
SUMMARY:Techno Temptation - Christmas Special
LOCATION:ELEKTRO GÖNNER
END:VEVENT
END:VCALENDAR


