BEGIN:VCALENDAR
VERSION:2.0
PRODID:-//hacksw/handcal//NONSGML v1.0//EN
BEGIN:VEVENT
UID:17608
DTSTART;VALUE=DATE:20231223
URL;VALUE=URI:ohschonhell.at/?page_id=39114
SUMMARY:Weihnachtschaos
LOCATION:Der Ponyhof
END:VEVENT
END:VCALENDAR


