BEGIN:VCALENDAR
VERSION:2.0
PRODID:-//hacksw/handcal//NONSGML v1.0//EN
BEGIN:VEVENT
UID:1761
DTSTART;VALUE=DATE:20140903
URL;VALUE=URI:ohschonhell.at/?page_id=4358
SUMMARY:_I¯¯ASØ swoundsound recording session
LOCATION:OBEN OHNE ÜDDW
END:VEVENT
END:VCALENDAR


