BEGIN:VCALENDAR
VERSION:2.0
PRODID:-//hacksw/handcal//NONSGML v1.0//EN
BEGIN:VEVENT
UID:17611
DTSTART;VALUE=DATE:20231231
URL;VALUE=URI:ohschonhell.at/?page_id=39120
SUMMARY:Ashida Park 2̶0̶2̶3̶
LOCATION:OPERA CLUB
END:VEVENT
END:VCALENDAR


