BEGIN:VCALENDAR
VERSION:2.0
PRODID:-//hacksw/handcal//NONSGML v1.0//EN
BEGIN:VEVENT
UID:17617
DTSTART;VALUE=DATE:20240105
URL;VALUE=URI:ohschonhell.at/?page_id=39133
SUMMARY:SCHROEDINGER’S Groove - RESOLUTION
LOCATION:Kramladen
END:VEVENT
END:VCALENDAR


