BEGIN:VCALENDAR
VERSION:2.0
PRODID:-//hacksw/handcal//NONSGML v1.0//EN
BEGIN:VEVENT
UID:17619
DTSTART;VALUE=DATE:20240126
URL;VALUE=URI:ohschonhell.at/?page_id=39137
SUMMARY:DJ Hyperdrive\, Vermeer\, Frederic. | Selected
LOCATION:GRELLE FORELLE
END:VEVENT
END:VCALENDAR


